Workbook
Name ___hsm2: 1.1289
Name ___isc1: 0.035
Name ___isc2: 0.02
Name ___isc3: 0.054
Name ___SOC10: 0.3456
Name ___SOC8: 0.2827
Name ___Sta1: 531.877
Name ___Sta2: 561.952
Name ___Sta3: 712.202
Name ___Sta4: 762.202
Name __boi1: #REF!
Name __boi2: #REF!
Name __boi3: #REF!
Name __boi4: #REF!
Name __btm10: #REF!
Name __btm100: #REF!
Name __BTM250: #REF!
Name __btM300: #REF!
Name __cao1: #REF!
Name __cao2: #REF!
Name __cao3: #REF!
Name __cao4: #REF!
Name __cao5: #REF!
Name __cao6: #REF!
Name __CON1: #REF!
Name __CON2: #REF!
Name __dai1: #REF!
Name __dai2: #REF!
Name __dai3: #REF!
Name __dai4: #REF!
Name __dai5: #REF!
Name __dai6: #REF!
Name __dan1: #REF!
Name __dan2: #REF!
Name __dao1: #REF!
Name __dbu1: #REF!
Name __dbu2: #REF!
Name __ddn400: #REF!
Name __ddn600: #REF!
Name __gon4: #REF!
Name __hom2: #REF!
Name __hsm2: 1.1289
Name __isc1: 0.035
Name __isc2: 0.02
Name __isc3: 0.054
Name __KM188: #REF!
Name __KM188: #REF!
Name __km189: #REF!
Name __km190: #REF!
Name __km191: #REF!
Name __km192: #REF!
Name __km193: #REF!
Name __km194: #REF!
Name __km195: #REF!
Name __km196: #REF!
Name __km197: #REF!
Name __km198: #REF!
Name __lap1: #REF!
Name __lap2: #REF!
Name __MAC12: #REF!

Sheet PL 01
A1: Phụ lục 01
A2: KẾ HOẠCH ĐẦU TƯ CÔNG, KINH PHÍ CHI THƯỜNG XUYÊN NGÂN SÁCH NHÀ NƯỚC NĂM 2026 THỰC HIỆN CHƯƠNG TRÌNH MỤC TIÊU QUỐC GIA XÂY DỰNG NÔNG THÔN MỚI, GIẢM NGHÈO BỀN VỮNG VÀ PHÁT TRIỂN KINH TẾ - XÃ HỘI VÙNG ĐỒNG BÀO DÂN TỘC THIỂU SỐ VÀ MIỀN NÚI GIAI ĐOẠN 2026-2035, GIAI ĐOẠN I: TỪ NĂM 2026 ĐẾN NĂM 2030 TRÊN ĐỊA BÀN XÃ IA CHIM (Nguồn vốn: Ngân sách trung ương, ngân sách tỉnh và ngân sách xã)
A3: (Kèm theo Nghị quyết số /NQ-HĐND ngày ....tháng 9 năm 2026 Hội đồng nhân dân xã Ia Chim)
A5: TT | B5: Đơn vị | C5: KẾ HOẠCH ĐẦU TƯ CÔNG, KINH PHÍ CHI THƯỜNG XUYÊN NSNN NĂM 2026 | K5: Ghi chú
C6: Tỉnh giao | G6: Địa phương giao
C7: Tổng cộng | D7: Vốn ngân sách trung ương | E7: Vốn ngân sách tỉnh đối ứng | F7: Vốn ngân sách xã đối ứng | G7: Tổng cộng | H7: Vốn ngân sách trung ương | I7: Vốn ngân sách tỉnh đối ứng | J7: Vốn ngân sách xã đối ứng
A8: (1) | B8: (2) | C8: (3)=(4)+(5)+(6) | D8: (4) | E8: (5) | F8: (6) | G8: (7)=(8)+(9)+(10) | H8: (8) | I8: (9) | J8: (10) | K8: (11)
B9: Tổng số | C9: =C10+C13 -> 2998.5878 | D9: =D10+D13 -> 2281.7577 | E9: =E10+E13 -> 471 | F9: =F10+F13 -> 245.83006 | G9: =G10+G13 -> 3183.7577 | H9: =H10+H13 -> 2281.7577 | I9: =I10+I13 -> 471 | J9: =J10+J13 -> 431
A10: I | B10: Kế hoạch vốn đầu tư công | C10: =C11 -> 2352.7641 | D10: =D11 -> 1787.7577 | E10: =E11 -> 340 | F10: =F11 -> 225.00637 | G10: =G11 -> 2537.7577 | H10: =H11 -> 1787.7577 | I10: =I11 -> 340 | J10: =J11 -> 410 | N10: =G10-C10 -> 184.99363
A11: 1 | B11: Phân cấp | C11: =C12 -> 2352.7641 | D11: =D12 -> 1787.7577 | E11: =E12 -> 340 | F11: =F12 -> 225.00637 | G11: =G12 -> 2537.7577 | H11: =H12 -> 1787.7577 | I11: =I12 -> 340 | J11: =J12 -> 410 | K11: Chi tiết tại PL 02
A12: - | B12: Phòng Kinh tế | C12: =SUM(D12:F12) -> 2352.7641 | D12: 1787.7577 | E12: 340 | F12: 225.00637 | G12: =H12+I12+J12 -> 2537.7577 | H12: 1787.7577 | I12: 340 | J12: 410
A13: II | B13: Kinh phí chi thường xuyên | C13: =D13+E13+F13 -> 645.82369 | D13: 494 | E13: 131 | F13: 20.823695 | G13: =SUM(G14:G19)+J13 -> 646 | H13: =SUM(H14:H19) -> 494 | I13: =SUM(I14:I19) -> 131 | J13: 21 | K13: Chi tiết tại PL 03
A14: 1 | B14: Ủy ban Mặt trận Tổ quốc Việt Nam xã | G14: =H14+I14+J14 -> 50 | H14: ='PL 03_SN'!E29+'PL 03_SN'!E30+'PL 03_SN'!E31 -> 40 | I14: ='PL 03_SN'!F29+'PL 03_SN'!F30+'PL 03_SN'!F31 -> 10
A15: 2 | B15: Phòng Kinh tế | G15: =H15+I15+J15 -> 232 | H15: ='PL 03_SN'!E37+'PL 03_SN'!E36+'PL 03_SN'!E26+'PL 03_SN'!E14 -> 183 | I15: ='PL 03_SN'!F37+'PL 03_SN'!F36+'PL 03_SN'!F26+'PL 03_SN'!F14 -> 49
A16: 3 | B16: Phòng Văn hóa - Xã hội | G16: =H16+I16+J16 -> 268 | H16: ='PL 03_SN'!E15+'PL 03_SN'!E17+'PL 03_SN'!E18+'PL 03_SN'!E20+'PL 03_SN'!E22+'PL 03_SN'!E27+'PL 03_SN'!E38 -> 211 | I16: ='PL 03_SN'!F15+'PL 03_SN'!F17+'PL 03_SN'!F18+'PL 03_SN'!F20+'PL 03_SN'!F22+'PL 03_SN'!F27+'PL 03_SN'!F38 -> 57
A17: 4 | B17: Công an xã | G17: =H17+I17+J17 -> 20 | H17: ='PL 03_SN'!E34 -> 16 | I17: ='PL 03_SN'!F34 -> 4
A18: 5 | B18: Ban Chỉ huy quân sự xã | G18: =H18+I18+J18 -> 20 | H18: ='PL 03_SN'!E33 -> 16 | I18: ='PL 03_SN'!F33 -> 4
A19: 6 | B19: Trung tâm Cung ứng Dịch vụ công xã | G19: =H19+I19+J19 -> 35 | H19: ='PL 03_SN'!E25+'PL 03_SN'!E24 -> 28 | I19: ='PL 03_SN'!F25+'PL 03_SN'!F24 -> 7

Sheet PL02_DMDA
A1: PHỤ LỤC 02
A2: KẾ HOẠCH ĐẦU TƯ CÔNG VỐN NGÂN SÁCH NHÀ NƯỚC NĂM 2026 THỰC HIỆN CHƯƠNG TRÌNH MỤC TIÊU QUỐC GIA XÂY DỰNG NÔNG THÔN MỚI, GIẢM NGHÈO BỀN VỮNG VÀ PHÁT TRIỂN KINH TẾ - XÃ HỘI VÙNG ĐỒNG BÀO DÂN TỘC THIỂU SỐ VÀ MIỀN NÚI GIAI ĐOẠN 2026-2035, GIAI ĐOẠN I: TỪ NĂM 2026 ĐẾN NĂM 2030 TRÊN ĐỊA BÀN XÃ IA CHIM
A3: (Kèm theo Nghị quyết số /NQ-HĐND ngày tháng 9 năm 2026 của Hội đồng nhân dân xã Ia Chim)
T4: ĐVT: Triệu đồng
A5: STT | B5: Dự án/Nội dung thành phần | C5: Chủ đầu tư | D5: Nhóm dự án | E5: Địa điểm thực hiện | F5: Quy mô đầu tư/Năng lực thiết kế | G5: Thời gian thực hiện | H5: Số quyết định, ngày ban hành của Quyết định đầu tư (nếu có) | I5: Dự kiến tổng mức đầu tư | N5: Quyết định đầu tư/Dự kiến tổng mức đầu tư | T5: Tổng kế hoạch vốn giao năm 2026 | U5: Trong đó | X5: Ghi chú
I6: Tổng số | J6: Trong đó | N6: Số Quyết định; ngày, tháng, năm ban hành | O6: Tổng số | P6: Trong đó | U6: NSTW | V6: NS tỉnh | W6: NS xã
J7: Ngân sách Trung ương | K7: Ngân sách địa phương | L7: Bao gồm | P7: Ngân sách Trung ương | Q7: Ngân sách địa phương | R7: Trong đó
L8: Ngân sách tỉnh | M8: Ngân sách xã | R8: Ngân sách cấp tỉnh đối ứng | S8: Ngân sách cấp xã đối ứng
A9: (1) | B9: (2) | C9: (3) | D9: (4) | E9: (5) | F9: (6) | G9: (7) | H9: (1) | I9: (1) | J9: (1) | K9: (1) | L9: (1) | M9: (1) | N9: (8) | O9: (9)=(10)+(11) | P9: (10) | Q9: (11)=(12)+(13) | R9: (12) | S9: (13) | T9: (14)=(15)+(16)+(17) | U9: (15) | V9: (16) | W9: (17) | X9: (18)
B10: Tổng cộng | I10: =#REF!+#REF! -> #REF! | J10: =#REF!+#REF! -> #REF! | K10: =#REF!+#REF! -> #REF! | L10: =#REF!+#REF! -> #REF! | M10: =#REF!+#REF! -> #REF! | O10: =O11 -> 3998 | P10: =P11 -> 3248 | Q10: =Q11 -> 750 | R10: =R11 -> 340 | S10: =S11 -> 410 | T10: =T11 -> 2538 | U10: =U11 -> 1788 | V10: =V11 -> 340 | W10: =W11 -> 410
A11: I | B11: HỢP PHẦN THỨ NHẤT | I11: =J11+K11 -> 0 | J11: =SUM(J15:J17) -> 0 | K11: =L11+M11 -> 0 | L11: =SUM(L15:L17) -> 0 | M11: =SUM(M15:M17) -> 0 | O11: =O12 -> 3998 | P11: =P12 -> 3248 | Q11: =Q12 -> 750 | R11: =R12 -> 340 | S11: =S12 -> 410 | T11: =T12 -> 2538 | U11: =U12 -> 1788 | V11: =V12 -> 340 | W11: =W12 -> 410
A12: I.1 | B12: Nội dung thành phần 02: Phát triển hạ tầng kinh tế - xã hội nông thôn toàn diện, đồng bộ, hiện đại, kết nối hiệu quả với đô thị và thích ứng với biến đổi khí hậu | O12: =O13 -> 3998 | P12: =P13 -> 3248 | Q12: =Q13 -> 750 | R12: =R13 -> 340 | S12: =S13 -> 410 | T12: =T13 -> 2538 | U12: =U13 -> 1788 | V12: =V13 -> 340 | W12: =W13 -> 410
B13: Nội dung 01: Tiếp tục hoàn thiện và nâng cao chất lượng hệ thống hạ tầng giao thông (bao gồm cả cầu dân sinh, công trình giao thông) phục vụ dân sinh, sản xuất và kinh doanh trên địa bàn xã, thôn; hạ tầng giao thông kết nối liên xã, liên thôn theo hướng đồng bộ, hiện đại, thích ứng với biến đổi khí hậu, pù hợp với đặc thù vùng, miền và bảo đảm kết nối hiệu quả. Trong đó, tập trung, ưu tiên hỗ trợ đầu tư cho các xã, thôn đặc biệt khó khăn, vùng đồng bào DTTS&MN, an toàn khu, biên giới và hải đảo | O13: =SUM(O15:O17) -> 3998 | P13: =SUM(P15:P17) -> 3248 | Q13: =SUM(Q15:Q17) -> 750 | R13: =SUM(R15:R17) -> 340 | S13: =SUM(S15:S17) -> 410 | T13: =SUM(T15:T17) -> 2538 | U13: =SUM(U15:U17) -> 1788 | V13: =SUM(V15:V17) -> 340 | W13: =SUM(W15:W17) -> 410
A14: (*) | B14: Khởi công mới | O14: =SUM(O15:O17) -> 3998 | P14: =SUM(P15:P17) -> 3248 | Q14: =SUM(Q15:Q17) -> 750 | R14: =SUM(R15:R17) -> 340 | S14: =SUM(S15:S17) -> 410 | T14: =SUM(T15:T17) -> 2538 | U14: =SUM(U15:U17) -> 1788 | V14: =SUM(V15:V17) -> 340 | W14: =SUM(W15:W17) -> 410
A15: 1 | B15: Đường liên thôn đoạn từ cuối khu dân cư thôn Nghĩa An đến cổng chào thôn Plei Druân | C15: Phòng Kinh tế | D15: C | E15: Thôn Plei Druân | F15: Chiều dài khoảng 1276m | G15: 2026- | O15: =P15+Q15 -> 2950 | P15: 2529 | Q15: =R15+S15 -> 421 | R15: 121 | S15: 300 | T15: =U15+V15+W15 -> 1490 | U15: 1069 | V15: =340-V16-V17 -> 121 | W15: 300
A16: 2 | B16: Đường ngõ xóm tuyến 2 (Đoạn đường từ nhà Ông A Chương dẫn đến nhà Ông A Nhiuh và Đoạn đường từ nhà Ông A Khuyh dẫn đến nhà Bà Y Ger) | C16: Phòng Kinh tế | D16: C | E16: Thôn Klâu Lay (thôn Plei Lay cũ) | F16: Chiều dài khoảng 329m | G16: 2026- | O16: =P16+Q16 -> 590 | P16: 400 | Q16: =R16+S16 -> 190 | R16: 130 | S16: 60 | T16: =U16+V16+W16 -> 590 | U16: 400 | V16: 130 | W16: 60
A17: 3 | B17: Đường ngõ xóm Tuyến 4 (Đoạn đường từ nhà Ông A Yir dẫn đến hộ A Nor và Đoạn đường từ nhà Ông A Đái dẫn đến hộ A Trưp) | C17: Phòng Kinh tế | D17: C | E17: Thôn Klâu Lay (thôn Plei Lay cũ) | F17: Chiều dài khoảng 243m | G17: 2026- | O17: =P17+Q17 -> 458 | P17: 319 | Q17: =R17+S17 -> 139 | R17: 89 | S17: 50 | T17: =U17+V17+W17 -> 458 | U17: 319 | V17: 89 | W17: 50 | X17: =S17+R17+P17 -> 458

Sheet PL 03_SN
A1: PHỤ LỤC 03
A2: PHÂN BỔ CHI TIẾT KINH PHÍ THƯỜNG XUYÊN THỰC HIỆN CHƯƠNG TRÌNH MỤC TIÊU QUỐC GIA XÂY DỰNG NÔNG THÔN MỚI, GIẢM NGHÈO BỀN VỮNG VÀ PHÁT TRIỂN KINH TẾ - XÃ HỘI VÙNG ĐỒNG BÀO DÂN TỘC THIỂU SỐ VÀ MIỀN NÚI GIAI ĐOẠN 2026-2035, GIAI ĐOẠN I: TỪ NĂM 2026 ĐẾN NĂM 2030 TRÊN ĐỊA BÀN XÃ IA CHIM
A3: (Kèm theo Nghị quyết số /NQ-HDNĐ ngày tháng 9 năm 2026 của Hội đồng nhân dân xã Ia Chim)
G5: ĐVT: Triệu đồng
A6: TT | B6: Nội dung | C6: Cơ quan, đơn vị thực hiện | D6: Dự kiến phân bổ kinh phí chi thường xuyên ngân sách nhà nước năm 2026 | H6: Ghi chú
D7: Tổng cộng | E7: Trong đó:
E8: Vốn ngân sách trung ương | F8: Vốn ngân sách tỉnh | G8: Vốn ngân sách xã đối ứng (*)
A10: (1) | B10: (2) | C10: (3) | D10: (4)=(5)+(6)+(7) | E10: (5) | F10: (6) | G10: (7) | H10: (8)
B11: Tổng cộng | D11: =D12 -> 646 | E11: =E12 -> 494 | F11: =F12 -> 131 | G11: =G12 -> 21
A12: I | B12: HỢP PHẦN THỨ NHẤT: CÁC NỘI DUNG CHUNG THỰC HIỆN TRÊN ĐỊA BÀN | D12: =E12+F12+G12 -> 646 | E12: =E13+E16+E19+E21+E23+E28+E32+E35 -> 494 | F12: =F13+F16+F19+F21+F23+F28+F32+F35 -> 131 | G12: 21
A13: 1 | B13: Nội dung thành phần 02: Phát triển hạ tầng kinh tế - xã hội nông thôn toàn diện, đồng bộ, hiện đại, kết nối hiệu quả với đô thị và thích ứng với biến đổi khí hậu | D13: =SUM(D14:D15) -> 228 | E13: =SUM(E14:E15) -> 178 | F13: =SUM(F14:F15) -> 50 | G13: =SUM(G14:G15) -> 0
A14: 1.1 | B14: Nội dung 03: Tăng cường năng lực phòng, chống thiên tai cấp xã nhằm chủ động phòng ngừa, ứng phó kịp thời, khắc phục hậu quả thiên tai có hiệu quả thông qua xây dựng hệ thống cảnh báo sớm, trang bị thiết bị thiết yếu, tổ chức lực lượng xung kích phòng, chống thiên tai và tuyên truyền, phổ biến, tập huấn, hướng dẫn nâng cao nhận thức cộng đồng về phòng, chống thiên tai, thích ứng với biến đổi khí hậu, nhất là tại các xã, thôn đặc biệt khó khăn, vùng đồng bào DTTS&MN, an toàn khu, biên giới và hải đảo, vùng có nguy cơ rủi ro cao và dễ bị tổn thương do biến đổi khí hậu. | C14: Phòng Kinh tế | D14: =SUM(E14:G14) -> 45 | E14: 35 | F14: 10
A15: 1.2 | B15: Nội dung 05: Tiếp tục đầu tư xây dựng, nâng cấp cơ sở vật chất, mua sắm trang thiết bị dạy học, thư viện cho các cơ sở giáo dục mầm non, cơ sở giáo dục phổ thông trên địa bàn nông thôn theo hướng hiện đại, chuẩn hóa và số hóa, đáp ứng yêu cầu học tập cơ bản. Tập trung, ưu tiên hỗ trợ đầu tư trên địa bàn các xã, thôn đặc biệt khó khăn, an toàn khu, biên giới và hải đảo; | C15: Phòng Văn hóa - Xã hội | D15: =SUM(E15:G15) -> 183 | E15: 143 | F15: 40
A16: 2 | B16: Nội dung thành phần 04: Phát triển nguồn nhân lực và hỗ trợ tạo việc làm bền vững | D16: =SUM(D17:D18) -> 35 | E16: =SUM(E17:E18) -> 28 | F16: =SUM(F17:F18) -> 7 | G16: =SUM(G17:G18) -> 0
A17: 2.1 | B17: Nội dung 01: Bảo đảm tiếp cận giáo dục công bằng, toàn diện và học tập suốt đời cho người dân vùng nông thôn, vùng đồng bào DTTS&MN, an toàn khu, biên giới và hải đảo. Triển khai phổ cập giáo dục mầm non cho trẻ em từ 3 đến 5 tuổi; duy trì nâng cao chất lượng phổ cập giáo dục mầm non cho trẻ em từ 5 đến 6 tuổi; phổ cập giáo dục, xóa mù chữ, giáo dục hòa nhập; phát triển lớp học thông minh, mô hình học tập cộng đồng; ứng dụng công nghệ số, trí tuệ nhân tạo và nền tảng học trực tuyến để mở rộng cơ hội học tập và học tập suốt đời, trong đó, ưu tiên hỗ trợ hộ nghèo, hộ cận nghèo, hộ mới thoát nghèo, phụ nữ, trẻ em gái, người khuyết tật và người dân vùng đồng bào DTTS&MN, an toàn khu, biên giới và hải đảo | C17: Phòng Văn hóa - Xã hội | D17: =SUM(E17:G17) -> 25 | E17: 20 | F17: 5
A18: 2.2 | B18: Nội dung 04: Hỗ trợ phát triển thị trường lao động, hệ thống thông tin thị trường lao động theo hướng hiện đại, linh hoạt, đồng bộ, nhất là khu vực nông thôn, kết nối theo địa bàn cấp tỉnh, vùng và toàn quốc. Đẩy mạnh các hoạt động giao dịch việc làm, kết nối cung - cầu lao động tại chỗ, trong tỉnh và ngoài tỉnh. Hỗ trợ tạo việc làm, chuyển đổi việc làm theo hướng bền vững tại khu vực nông thôn. Tập trung, ưu tiên lao động thuộc hộ nghèo, hộ cận nghèo, hộ mới thoát nghèo; người lao động trên địa bàn các xã, thôn đặc biệt khó khăn, vùng đồng bào DTTS&MN, an toàn khu, biên giới và hải đảo; lao động là người khuyết tật, phụ nữ và người lao động cao tuổi | C18: Phòng Văn hóa - Xã hội | D18: =SUM(E18:G18) -> 10 | E18: 8 | F18: 2
A19: 3 | B19: Nội dung thành phần 05: Nâng cao chất lượng dịch vụ hành chính công, trợ giúp pháp lý và thúc đẩy bình đẳng giới (gồm 04 nội dung cụ thể) | D19: =SUM(D20:D20) -> 15 | E19: =SUM(E20:E20) -> 12 | F19: =SUM(F20:F20) -> 3 | G19: =SUM(G20:G20) -> 0
A20: 3.1 | B20: Nội dung 04: Tăng cường thực hiện lồng ghép giới trong xây dựng chính sách, chương trình về giảm nghèo, an sinh xã hội, xây dựng nông thôn mới, phát triển kinh tế - xã hội vùng đồng bào DTTS&MN. Thúc đẩy bình đẳng giới trong công tác giảm nghèo, xây dựng nông thôn mới và phát triển kinh tế - xã hội vùng đồng bào DTTS&MN ở địa phương. Đẩy mạnh truyền thông nhằm thay đổi định kiến giới. Tăng cường vai trò, vị thế của phụ nữ trong lãnh đạo, quản lý và phát triển cộng đồng; tổ chức triển khai các chỉ tiêu bình đẳng giới ; nâng cao nhận thức về giới trong xây dựng cộng đồng văn minh, tiến bộ | C20: Phòng Văn hóa - Xã hội | D20: =SUM(E20:G20) -> 15 | E20: 12 | F20: 3
A21: 4 | B21: Nội dung thành phần 06: Phát triển khoa học, công nghệ và chuyển đổi số ở nông thôn | D21: =SUM(D22:D22) -> 15 | E21: =SUM(E22:E22) -> 12 | F21: =SUM(F22:F22) -> 3 | G21: =SUM(G22:G22) -> 0
A22: 4.1 | B22: Nội dung 02: Đẩy mạnh chuyển đổi số, chuyển giao tiến bộ khoa học - kỹ thuật, công nghệ phục vụ đời sống, phát triển kinh tế nông thôn và phát triển kinh tế - xã hội vùng đồng bào DTTS&MN; phát triển và nhân rộng các mô hình “thôn thông minh” | C22: Phòng Văn hóa - Xã hội | D22: =SUM(E22:G22) -> 15 | E22: 12 | F22: 3
A23: 5 | B23: Nội dung thành phần 07: Xây dựng môi trường và cảnh quan nông thôn sáng, xanh, sạch, đẹp, an toàn và thích ứng với biến đổi khí hậu; tăng cường công tác bảo đảm an toàn thực phẩm tại khu vực nông thôn | D23: =SUM(D24:D27) -> 193 | E23: =SUM(E24:E27) -> 153 | F23: =SUM(F24:F27) -> 40 | G23: =SUM(G24:G27) -> 0
A24: 5.1 | B24: Nội dung 01: Tăng cường quản lý chất thải rắn, nước thải, chất thải và phụ phẩm nông nghiệp theo hướng tuần hoàn, bền vững và thích ứng với biến đổi khí hậu; ứng dụng công nghệ xử lý chất thải hiện đại, thân thiện môi trường, giảm thiểu chôn lấp trực tiếp; phát triển mô hình tiêu dùng xanh, thân thiện môi trường, cộng đồng không rác thải nhựa và kinh tế tuần hoàn quy mô thôn, bản, cụm dân cư, hộ gia đình. Hỗ trợ hộ nghèo, hộ cận nghèo, hộ mới thoát nghèo, hộ vùng đồng bào DTTS&MN nâng cao nhận thức, tiếp cận xử lý rác thải sinh hoạt tại gia đình | C24: Trung tâm Cung ứng Dịch vụ công | D24: =SUM(E24:G24) -> 20 | E24: 16 | F24: 4
A25: 5.2 | B25: Nội dung 02: Kiểm soát, xử lý ô nhiễm và cải thiện chất lượng môi trường tại những khu vực tập trung nhiều nguồn thải, làng nghề và các khu vực mặt nước bị ô nhiễm; tăng cường giám sát môi trường dựa vào cộng đồng, khuyến khích sự tham gia của cộng đồng dân cư và các tổ chức đoàn thể trong giám sát nguồn thải, phát hiện sớm và phản ánh kịp thời các hành vi gây ô nhiễm môi trường | C25: Trung tâm Cung ứng Dịch vụ công | D25: =SUM(E25:G25) -> 15 | E25: 12 | F25: 3
A26: 5.3 | B26: Nội dung 03: Gìn giữ, cải tạo và phát triển cảnh quan môi trường nông thôn sáng - xanh - sạch - đẹp, bảo tồn không gian làng quê, cảnh quan thiên nhiên và bản sắc văn hóa địa phương. Phát triển mô hình thôn sinh thái, khu dân cư kiểu mẫu, mở rộng không gian sinh hoạt cộng đồng; trồng cây xanh, cải tạo cảnh quan gắn với cộng đồng dân cư. Phát huy vai trò tự quản của cộng đồng trong duy trì môi trường sống hài hòa, an toàn và thân thiện với thiên nhiên. Xây dựng thí điểm một số mô hình “nông nghiệp xanh” | C26: Phòng Kinh tế | D26: =SUM(E26:G26) -> 148 | E26: 117 | F26: 31
A27: 5.4 | B27: Nội dung 04: Tăng cường công tác bảo đảm an toàn thực phẩm tại khu vực nông thôn; nâng cao ý thức, trách nhiệm tuân thủ pháp luật về chất lượng, an toàn thực phẩm của tổ chức, cá nhân trong sản xuất, kinh doanh, tiêu dùng thực phẩm an toàn; ưu tiên đẩy mạnh ứng dụng khoa học và công nghệ, chuyển đổi số trong công tác quản lý, kiểm soát và giám sát an toàn thực phẩm | C27: Phòng Văn hóa - Xã hội | D27: =SUM(E27:G27) -> 10 | E27: 8 | F27: 2
A28: 6 | B28: Nội dung thành phần 08: Phát huy vai trò của Mặt trận Tổ quốc Việt Nam và các tổ chức chính trị - xã hội trong xây dựng nông thôn mới, giảm nghèo bền vững và phát triển kinh tế xã hội vùng đồng bào DTTS&MN | D28: =SUM(D29:D31) -> 50 | E28: =SUM(E29:E31) -> 40 | F28: =SUM(F29:F31) -> 10 | G28: =SUM(G29:G31) -> 0
A29: 6.1 | B29: Nội dung 01: Tuyên truyền, vận động phát huy vai trò chủ thể của người dân trong xây dựng nông thôn mới, giảm nghèo bền vững, phát triển kinh tế vùng đồng bào dân tộc thiểu số và miền núi. Triển khai hiệu quả Cuộc vận động “Toàn dân đoàn kết xây dựng NTM, đô thị văn minh”; xây dựng, nhân rộng mô hình “Khu dân cư đoàn kết, ấm no, hạnh phúc”, tổ chức lấy ý kiến sự hài lòng của người dân về xây dựng nông thôn mới. Thực hiện công tác an sinh xã hội gắn với xây dựng nông thôn mới, giảm nghèo bền vững, phát triển kinh tế vùng đồng bào dân tộc thiểu số và miền núi; thực hiện chuyển đổi số trong triển khai thực hiện Chương trình. Nâng cao chất lượng công tác giám sát, phản biện xã hội trong xây dựng, triển khai thực hiện Chương trình | C29: Ủy ban Mặt trận tổ quốc Việt Nam xã | D29: =SUM(E29:G29) -> 20 | E29: 16 | F29: 4
A30: 6.2 | B30: Nội dung 02: Triển khai hiệu quả Phong trào “Nông dân thi đua sản xuất kinh doanh giỏi, đoàn kết giúp nhau làm giàu và giảm nghèo bền vững”; xây dựng các chi Hội Nông dân nghề nghiệp, tổ Hội Nông dân nghề nghiệp theo nguyên tắc “5 tự”, “5 cùng”; Đề án “Hội Nông dân Việt Nam tham gia phát triển kinh tế tập thể trong nông nghiệp đến năm 2030”; Đề án “Tuyên truyền, vận động, hướng dẫn nông dân sản xuất, kinh doanh nông sản, thực phẩm an toàn vì sức khoẻ cộng đồng giai đoạn 2026 - 2030" | C30: Ủy ban Mặt trận tổ quốc Việt Nam xã | D30: =SUM(E30:G30) -> 20 | E30: 16 | F30: 4
A31: 6.3 | B31: Nội dung 04: Thực hiện hiệu quả Cuộc vận động “Xây dựng gia đình 5 không, 3 sạch, 3 an”; vun đắp, gìn giữ giá trị tốt đẹp và phát triển hệ giá trị gia đình Việt Nam | C31: Ủy ban Mặt trận tổ quốc Việt Nam xã | D31: =SUM(E31:G31) -> 10 | E31: 8 | F31: 2
A32: 7 | B32: Nội dung thành phần 09: Bảo đảm quốc phòng, an ninh và trật tự an toàn xã hội | D32: =SUM(D33:D34) -> 40 | E32: =SUM(E33:E34) -> 32 | F32: =SUM(F33:F34) -> 8 | G32: =SUM(G33:G34) -> 0
A33: 7.1 | B33: Nội dung 01: Xây dựng lực lượng dân quân vững mạnh, rộng khắp, hoàn thành các chỉ tiêu quân sự, quốc phòng được giao; góp phần xây dựng nền quốc phòng toàn dân gắn với nền an ninh nhân dân, thế trận quốc phòng toàn dân gắn với thế trận an ninh nhân dân; tích cực xây dựng địa bàn nông thôn vững mạnh, toàn diện, bảo đảm giữ vững tiêu chí quân sự, quốc phòng trong xây dựng nông thôn mới, giảm nghèo bền vững | C33: Ban Chỉ huy Quân sự xã | D33: =SUM(E33:G33) -> 20 | E33: 16 | F33: 4
A34: 7.2 | B34: Nội dung 02: An ninh, trật tự ở địa bàn cơ sở được bảo đảm, phát hiện, giải quyết kịp thời các nguy cơ tiềm ẩn về an ninh quốc gia, trật tự an toàn xã hội, những vấn đề phức tạp nảy sinh từ sớm, từ xa, từ cơ sở; đồng thời phải sẵn sàng các phương án để đối phó kịp thời và hiệu quả khi xảy ra tình huống phức tạp theo phương châm “bốn tại chỗ”, không để hình thành các điểm nóng phức tạp về an ninh, trật tự; kiềm chế, kéo giảm tội phạm, tai nạn giao thông, cháy, nổ trên địa bàn; phong trào toàn dân bảo vệ an ninh Tổ quốc hoạt động hiệu quả; lực lượng tham gia bảo vệ an ninh, trật tự ở cơ sở đảm bảo số lượng, chất lượng, điều kiện hoạt động; xây dựng, củng cố, nhân rộng các mô hình bảo đảm an ninh, trật tự, đặc biệt là các mô hình chuyển đổi số, mô hình camera AI giám sát an ninh khu vực nông thôn | C34: Công an xã | D34: =SUM(E34:G34) -> 20 | E34: 16 | F34: 4
A35: 8 | B35: Nội dung thành phần 10: Nâng cao năng lực, truyền thông, giám sát, đánh giá; triển khai hiệu quả phong trào thi đua về xây dựng nông thôn mới, giảm nghèo bền vững và phát triển kinh tế - xã hội vùng đồng bào DTTS&MN | D35: =SUM(D36:D38) -> 49 | E35: =SUM(E36:E38) -> 39 | F35: =SUM(F36:F38) -> 10 | G35: =SUM(G36:G38) -> 0
A36: 8.1 | B36: Nội dung 01: Nâng cao chất lượng và hiệu quả công tác kiểm tra, giám sát, đánh giá kết quả thực hiện Chương trình ở các cấp; xây dựng hệ thống cơ sở dữ liệu quản lý Chương trình. Rà soát, đánh giá hộ nghèo, hộ cận nghèo hằng năm | C36: Phòng Kinh tế | D36: =SUM(E36:G36) -> 29 | E36: 23 | F36: 6
A37: 8.2 | B37: Nội dung 02: Xây dựng Chương trình, tài liệu và tổ chức bồi dưỡng, tập huấn, nâng cao năng lực cho đội ngũ cán bộ làm công tác xây dựng NTM, giảm nghèo bền vững, phát triển kinh tế - xã hội vùng đồng bào DTTS&MN, đặc biệt là cán bộ cơ sở; tập huấn, nâng cao nhận thức, năng lực, đổi mới tư duy của cộng đồng và người dân về xây dựng NTM, giảm nghèo bền vững, phát triển kinh tế - xã hội vùng đồng bào DTTS&MN; tập trung, ưu tiên cho các đối tượng thuộc xã, thôn đặc biệt khó khăn, vùng đồng bào DTTS&MN | C37: Phòng Kinh tế | D37: =SUM(E37:G37) -> 10 | E37: 8 | F37: 2
A38: 8.3 | B38: Nội dung 03: Đổi mới và nâng cao chất lượng, hiệu quả công tác truyền thông về xây dựng NTM, giảm nghèo bền vững và phát triển kinh tế - xã hội vùng đồng bào DTTS&MN | C38: Phòng Văn hóa - Xã hội | D38: =SUM(E38:G38) -> 10 | E38: 8 | F38: 2
B40: Ghi chú: (*) Giao Ủy ban nhân dân xã chỉ đạo các cơ quan, đơn vị rà soát, lồng ghép vốn từ dự toán chi sự nghiệp năm 2026 đã phân bổ theo các nội dung, nhiệm vụ có tính chất tương đồng với Chương trình hoặc đề xuất điều chỉnh, bổ sung từ các nội dung hết nhiệm vụ chi; báo cáo Hội đồng nhân dân xã tại Kỳ họp gần nhất.
